BEGIN:VCALENDAR
VERSION:2.0
PRODID:-//hilltophanoverfarm.org//NONSGML kigkonsult.se iCalcreator 2.30.10
 //
CALSCALE:GREGORIAN
METHOD:PUBLISH
UID:38289f1a-7024-4100-8a0f-4945113db94c
X-WR-CALDESC:<a href='https://hilltophanoverfarm.org/about-the-farm/farm-st
 and.html'>Find out more about Hilltop's Farm Stand!</a>\n\nOur plant sale 
 starting today\, Thursday\, May 8th until we sell out of vegetable starts.
   No pre-order available\, first come first serve.\n\nWe are wheelchair ac
 cessible and offer accessible parking.\n\nPayment types we accept\nWIC | S
 NAP | FMNP | Cash | Check | Apple Pay\nVisa | Mastercard | American Expres
 s | Discover\n\nWe offer a 50% discount on produce and 30% discount on sou
 rced good items for customers paying with SNAP and FMNP benefits.\n\n
X-WR-RELCALID:d6123fcf4f32542c635ea5a7aa305ab1
X-WR-TIMEZONE:America/New_York
BEGIN:VTIMEZONE
TZID:America/New_York
BEGIN:STANDARD
TZNAME:EST
DTSTART:20241103T020000
TZOFFSETFROM:-0400
TZOFFSETTO:-0500
RDATE:20251102T020000
RDATE:20261101T020000
END:STANDARD
BEGIN:DAYLIGHT
TZNAME:EDT
DTSTART:20250309T020000
TZOFFSETFROM:-0500
TZOFFSETTO:-0400
RDATE:20260308T020000
END:DAYLIGHT
END:VTIMEZONE
BEGIN:VEVENT
UID:85dba62e-567e-44e7-9bee-db1da1968d50
DTSTAMP:20260425T134129Z
DESCRIPTION:<a href='https://hilltophanoverfarm.org/about-the-farm/farm-sta
 nd.html'>Find out more about Hilltop's Farm Stand!</a>\n\nOur plant sale s
 tarting today\, Thursday\, May 8th until we sell out of vegetable starts. 
  No pre-order available\, first come first serve.\n\nWe are wheelchair acc
 essible and offer accessible parking.\n\nPayment types we accept\nWIC | SN
 AP | FMNP | Cash | Check | Apple Pay\nVisa | Mastercard | American Express
  | Discover\n\nWe offer a 50% discount on produce and 30% discount on sour
 ced good items for customers paying with SNAP and FMNP benefits.\n\n
DTSTART;TZID=America/New_York:20250508T100000
DTEND;TZID=America/New_York:20250508T160000
LOCATION:1271 Hanover Street\, Yorktown Heights\, NY 10598 US
SUMMARY:Farm Stand Open - Plant Sale - Vegetable Starts Available
END:VEVENT
END:VCALENDAR
