BEGIN:VCALENDAR
VERSION:2.0
PRODID:-//hilltophanoverfarm.org//NONSGML kigkonsult.se iCalcreator 2.30.10
 //
CALSCALE:GREGORIAN
METHOD:PUBLISH
UID:e851f7b2-7ab4-4f3f-9cb0-556daa870392
X-WR-CALDESC:<a href='https://hilltophanoverfarm.org/about-the-farm/farm-st
 and.html'>Find out more about Hilltop's Farm Stand!</a>\n\nWe are wheelcha
 ir accessible and offer accessible parking.\n\nPayment types we accept\nWI
 C | SNAP | FMNP | Cash | Check | Apple Pay\nVisa | Mastercard | American E
 xpress | Discover\n\nWe offer a 50% discount on produce and 30% discount o
 n sourced good items for customers paying with SNAP and FMNP benefits.\n\n
X-WR-RELCALID:77f50f447d4c7fa43ffce24cec89f03d
X-WR-TIMEZONE:America/New_York
BEGIN:VTIMEZONE
TZID:America/New_York
BEGIN:STANDARD
TZNAME:EST
DTSTART:20241103T020000
TZOFFSETFROM:-0400
TZOFFSETTO:-0500
RDATE:20251102T020000
RDATE:20261101T020000
END:STANDARD
BEGIN:DAYLIGHT
TZNAME:EDT
DTSTART:20250309T020000
TZOFFSETFROM:-0500
TZOFFSETTO:-0400
RDATE:20260308T020000
END:DAYLIGHT
END:VTIMEZONE
BEGIN:VEVENT
UID:3bdfbdc2-81ee-453a-98a7-54d2286a7e70
DTSTAMP:20260420T062133Z
DESCRIPTION:<a href='https://hilltophanoverfarm.org/about-the-farm/farm-sta
 nd.html'>Find out more about Hilltop's Farm Stand!</a>\n\nWe are wheelchai
 r accessible and offer accessible parking.\n\nPayment types we accept\nWIC
  | SNAP | FMNP | Cash | Check | Apple Pay\nVisa | Mastercard | American Ex
 press | Discover\n\nWe offer a 50% discount on produce and 30% discount on
  sourced good items for customers paying with SNAP and FMNP benefits.\n\n
DTSTART;TZID=America/New_York:20250509T100000
DTEND;TZID=America/New_York:20250509T160000
LOCATION:1271 Hanover Street\, Yorktown Heights\, NY 10598 US
SUMMARY:Farm Stand Open
END:VEVENT
END:VCALENDAR
