BEGIN:VCALENDAR
VERSION:2.0
PRODID:-//hilltophanoverfarm.org//NONSGML kigkonsult.se iCalcreator 2.30.10
 //
CALSCALE:GREGORIAN
METHOD:PUBLISH
UID:ee0e03b2-df50-4519-a15e-ee0e561c2c74
X-WR-CALDESC:<a href='https://hilltophanoverfarm.org/about-the-farm/farm-st
 and.html'>Find out more about Hilltop's Farm Stand!</a>\n\nWe are wheelcha
 ir accessible and offer accessible parking.\n\nPayment types we accept\nWI
 C | SNAP | FMNP | Cash | Check | Apple Pay\nVisa | Mastercard | American E
 xpress | Discover\n\nWe offer a 50% discount on produce and 30% discount o
 n sourced good items for customers paying with SNAP and FMNP benefits.\n\n
X-WR-RELCALID:24d2ee930de1ea8b7643ef8077fad797
X-WR-TIMEZONE:America/New_York
BEGIN:VTIMEZONE
TZID:America/New_York
BEGIN:STANDARD
TZNAME:EST
DTSTART:20241103T020000
TZOFFSETFROM:-0400
TZOFFSETTO:-0500
RDATE:20251102T020000
RDATE:20261101T020000
END:STANDARD
BEGIN:DAYLIGHT
TZNAME:EDT
DTSTART:20250309T020000
TZOFFSETFROM:-0500
TZOFFSETTO:-0400
RDATE:20260308T020000
END:DAYLIGHT
END:VTIMEZONE
BEGIN:VEVENT
UID:10d75358-9802-4b1c-bc96-b0cb3f29e0cd
DTSTAMP:20260425T131614Z
DESCRIPTION:<a href='https://hilltophanoverfarm.org/about-the-farm/farm-sta
 nd.html'>Find out more about Hilltop's Farm Stand!</a>\n\nWe are wheelchai
 r accessible and offer accessible parking.\n\nPayment types we accept\nWIC
  | SNAP | FMNP | Cash | Check | Apple Pay\nVisa | Mastercard | American Ex
 press | Discover\n\nWe offer a 50% discount on produce and 30% discount on
  sourced good items for customers paying with SNAP and FMNP benefits.\n\n
DTSTART;TZID=America/New_York:20250511T100000
DTEND;TZID=America/New_York:20250511T160000
LOCATION:1271 Hanover Street\, Yorktown Heights\, NY 10598 US
SUMMARY:Farm Stand Open
END:VEVENT
END:VCALENDAR
