BEGIN:VCALENDAR
VERSION:2.0
PRODID:-//hilltophanoverfarm.org//NONSGML kigkonsult.se iCalcreator 2.30.10
 //
CALSCALE:GREGORIAN
METHOD:PUBLISH
UID:788136b1-a86e-4f2d-b77d-40b994aa9a37
X-WR-CALDESC:<a href='https://hilltophanoverfarm.org/about-the-farm/farm-st
 and.html'>Find out more about Hilltop's Farm Stand!</a>\n\nWe are wheelcha
 ir accessible and offer accessible parking.\n\nPayment types we accept\nWI
 C | SNAP | FMNP | Cash | Check | Apple Pay\nVisa | Mastercard | American E
 xpress | Discover\n\nWe offer a 50% discount on produce and 30% discount o
 n sourced good items for customers paying with SNAP and FMNP benefits.\n\n
X-WR-RELCALID:cd465552241b06d1ff81da41d1735497
X-WR-TIMEZONE:America/New_York
BEGIN:VTIMEZONE
TZID:America/New_York
BEGIN:STANDARD
TZNAME:EST
DTSTART:20251102T020000
TZOFFSETFROM:-0400
TZOFFSETTO:-0500
RDATE:20261101T020000
END:STANDARD
BEGIN:DAYLIGHT
TZNAME:EDT
DTSTART:20250309T020000
TZOFFSETFROM:-0500
TZOFFSETTO:-0400
RDATE:20260308T020000
RDATE:20270314T020000
END:DAYLIGHT
END:VTIMEZONE
BEGIN:VEVENT
UID:9f863b6d-059a-4aa2-bb0f-fe4867073d31
DTSTAMP:20260425T030749Z
DESCRIPTION:<a href='https://hilltophanoverfarm.org/about-the-farm/farm-sta
 nd.html'>Find out more about Hilltop's Farm Stand!</a>\n\nWe are wheelchai
 r accessible and offer accessible parking.\n\nPayment types we accept\nWIC
  | SNAP | FMNP | Cash | Check | Apple Pay\nVisa | Mastercard | American Ex
 press | Discover\n\nWe offer a 50% discount on produce and 30% discount on
  sourced good items for customers paying with SNAP and FMNP benefits.\n\n
DTSTART;TZID=America/New_York:20251107T100000
DTEND;TZID=America/New_York:20251107T160000
LOCATION:1271 Hanover Street\, Yorktown Heights\, NY 10598 US
SUMMARY:Farm Stand Open
END:VEVENT
END:VCALENDAR
