BEGIN:VCALENDAR
VERSION:2.0
PRODID:-//hilltophanoverfarm.org//NONSGML kigkonsult.se iCalcreator 2.30.10
 //
CALSCALE:GREGORIAN
METHOD:PUBLISH
UID:0897ce18-557b-4dd9-90f4-f3c736e9d121
X-WR-CALDESC:
X-WR-RELCALID:1f6b6a1292fd7119b38b26e683d56ae5
X-WR-TIMEZONE:America/New_York
BEGIN:VTIMEZONE
TZID:America/New_York
BEGIN:STANDARD
TZNAME:EST
DTSTART:20251102T020000
TZOFFSETFROM:-0400
TZOFFSETTO:-0500
RDATE:20261101T020000
END:STANDARD
BEGIN:DAYLIGHT
TZNAME:EDT
DTSTART:20250309T020000
TZOFFSETFROM:-0500
TZOFFSETTO:-0400
RDATE:20260308T020000
RDATE:20270314T020000
END:DAYLIGHT
END:VTIMEZONE
BEGIN:VEVENT
UID:8c793dab-0d81-46b2-8618-45bf29c0b0c2
DTSTAMP:20260424T215659Z
DESCRIPTION:
DTSTART;TZID=America/New_York:20260207T100000
DTEND;TZID=America/New_York:20260207T160000
LOCATION:1271 Hanover Street\, Yorktown Heights\, NY 10598 US
SUMMARY:February Farm Stand
END:VEVENT
END:VCALENDAR
