BEGIN:VCALENDAR
VERSION:2.0
PRODID:-//hilltophanoverfarm.org//NONSGML kigkonsult.se iCalcreator 2.30.10
 //
CALSCALE:GREGORIAN
METHOD:PUBLISH
UID:e1e14c27-4634-4292-bde1-1ba1ad5f166e
X-WR-CALDESC:
X-WR-RELCALID:e39980d6d521587097fb63b4a11fb736
X-WR-TIMEZONE:America/New_York
BEGIN:VTIMEZONE
TZID:America/New_York
BEGIN:STANDARD
TZNAME:EST
DTSTART:20251102T020000
TZOFFSETFROM:-0400
TZOFFSETTO:-0500
RDATE:20261101T020000
END:STANDARD
BEGIN:DAYLIGHT
TZNAME:EDT
DTSTART:20250309T020000
TZOFFSETFROM:-0500
TZOFFSETTO:-0400
RDATE:20260308T020000
RDATE:20270314T020000
END:DAYLIGHT
END:VTIMEZONE
BEGIN:VEVENT
UID:104429d7-0d60-4e8f-921f-3555c8662c53
DTSTAMP:20260424T195312Z
DESCRIPTION:
DTSTART;TZID=America/New_York:20260307T060000
DTEND;TZID=America/New_York:20260307T060001
LOCATION:1271 Hanover Street\, Yorktown Heights\, NY 10598 US
SUMMARY:March Farm Stand
END:VEVENT
END:VCALENDAR
